BEGIN:VCALENDAR
VERSION:2.0
PRODID:-//JoshFund.org - ECPv6.15.20//NONSGML v1.0//EN
CALSCALE:GREGORIAN
METHOD:PUBLISH
X-WR-CALNAME:JoshFund.org
X-ORIGINAL-URL:https://www.joshfund.org
X-WR-CALDESC:Events for JoshFund.org
REFRESH-INTERVAL;VALUE=DURATION:PT1H
X-Robots-Tag:noindex
X-PUBLISHED-TTL:PT1H
BEGIN:VTIMEZONE
TZID:UTC
BEGIN:STANDARD
TZOFFSETFROM:+0000
TZOFFSETTO:+0000
TZNAME:UTC
DTSTART:20170101T000000
END:STANDARD
END:VTIMEZONE
BEGIN:VEVENT
DTSTART;TZID=UTC:20180620T080000
DTEND;TZID=UTC:20180620T100000
DTSTAMP:20260425T153255
CREATED:20180516T235900Z
LAST-MODIFIED:20180516T235900Z
UID:439-1529481600-1529488800@www.joshfund.org
SUMMARY:Community Cup at Dosie Dough / Lititz to Benefit JoshFund.org !
DESCRIPTION:Hi Everyone! \nDosie Dough in Lititz has been partnering with different local non profits to raise community awareness and funds in their new program\, Community Cup. \nThey are donating all of our proceeds from coffee and specialty drinks on the third Wednesday of every month between 8am-10am to a different charity. \nThey will be featuring JoshFund.org on June 20th ! \nI (Josh) will be there to chat with you about JoshFund (and whatever else you’d like to talk about) and to hand out my Official JoshFund.org Pens!! \nPlease come out and visit me Wednesday June 20th from 8:00 am until 10:00 am and have a great breakfast and get your day started!! \nJosh  
URL:https://www.joshfund.org/event/community-cup-at-dosie-dough-lititz-to-benefit-joshfund-org/
LOCATION:Dosie Dough\, 45 S Broad St\, Lititz\, PA\, 17543
END:VEVENT
END:VCALENDAR